BEGIN:VCALENDAR
VERSION:2.0
PRODID:-//Suffolk County Black Nurses Association - ECPv6.15.20//NONSGML v1.0//EN
CALSCALE:GREGORIAN
METHOD:PUBLISH
X-WR-CALNAME:Suffolk County Black Nurses Association
X-ORIGINAL-URL:https://suffolkcountybna.nbna.org
X-WR-CALDESC:Events for Suffolk County Black Nurses Association
REFRESH-INTERVAL;VALUE=DURATION:PT1H
X-Robots-Tag:noindex
X-PUBLISHED-TTL:PT1H
BEGIN:VTIMEZONE
TZID:America/New_York
BEGIN:DAYLIGHT
TZOFFSETFROM:-0500
TZOFFSETTO:-0400
TZNAME:EDT
DTSTART:20250309T070000
END:DAYLIGHT
BEGIN:STANDARD
TZOFFSETFROM:-0400
TZOFFSETTO:-0500
TZNAME:EST
DTSTART:20251102T060000
END:STANDARD
BEGIN:DAYLIGHT
TZOFFSETFROM:-0500
TZOFFSETTO:-0400
TZNAME:EDT
DTSTART:20260308T070000
END:DAYLIGHT
BEGIN:STANDARD
TZOFFSETFROM:-0400
TZOFFSETTO:-0500
TZNAME:EST
DTSTART:20261101T060000
END:STANDARD
BEGIN:DAYLIGHT
TZOFFSETFROM:-0500
TZOFFSETTO:-0400
TZNAME:EDT
DTSTART:20270314T070000
END:DAYLIGHT
BEGIN:STANDARD
TZOFFSETFROM:-0400
TZOFFSETTO:-0500
TZNAME:EST
DTSTART:20271107T060000
END:STANDARD
END:VTIMEZONE
BEGIN:VEVENT
DTSTART;TZID=America/New_York:20260301T080000
DTEND;TZID=America/New_York:20260331T170000
DTSTAMP:20260419T162204
CREATED:20260312T184909Z
LAST-MODIFIED:20260312T185843Z
UID:10000003-1772352000-1774976400@suffolkcountybna.nbna.org
SUMMARY:SCBNA Celebrates Women's History Month
DESCRIPTION:
URL:https://suffolkcountybna.nbna.org/event/scbna-celebrates-womens-history-month/
ATTACH;FMTTYPE=image/png:https://suffolkcountybna.nbna.org/wp-content/uploads/sites/29/2026/03/Image-3-6-26-at-5.35-PM.png
END:VEVENT
BEGIN:VEVENT
DTSTART;TZID=America/New_York:20260318T180000
DTEND;TZID=America/New_York:20260318T203000
DTSTAMP:20260419T162204
CREATED:20260312T185041Z
LAST-MODIFIED:20260312T185913Z
UID:10000004-1773856800-1773865800@suffolkcountybna.nbna.org
SUMMARY:SCBNA Chapter Meeting
DESCRIPTION:Join us at our next\nchapter meeting! \nALL NURSES\, STUDENT NURSES AND RETIRED NURSES ARE WELCOME!
URL:https://suffolkcountybna.nbna.org/event/scbna-chapter-meeting/
ATTACH;FMTTYPE=image/jpeg:https://suffolkcountybna.nbna.org/wp-content/uploads/sites/29/2026/03/PHOTO-2026-02-27-18-44-14.jpg
END:VEVENT
BEGIN:VEVENT
DTSTART;TZID=America/New_York:20260322T130000
DTEND;TZID=America/New_York:20260322T130000
DTSTAMP:20260419T162204
CREATED:20260312T185222Z
LAST-MODIFIED:20260312T185958Z
UID:10000005-1774184400-1774184400@suffolkcountybna.nbna.org
SUMMARY:Women of Impact Honorees
DESCRIPTION:Join us as The Suffolk County Black Nurses Association is proud to be recognized as \n“Women of Impact Honorees” \nat the Mothers Club of Wheatley Heights’ Women’s History Month Celebration. \nMarch 22\, 2026 
URL:https://suffolkcountybna.nbna.org/event/women-of-impact-honorees/
ATTACH;FMTTYPE=image/jpeg:https://suffolkcountybna.nbna.org/wp-content/uploads/sites/29/2026/03/WhatsApp-Image-2026-03-03-at-13.12.34.jpeg
END:VEVENT
END:VCALENDAR